BEGIN:VCALENDAR
VERSION:2.0
PRODID:-//Library Market//iCal Export//EN
BEGIN:VEVENT
SUMMARY:Let&#039;s Dish: A Cookbook Club
UID:152993
DTSTAMP:20260424T042300Z
DTSTART:20260629T233000Z
DTEND:20260630T003000Z
LOCATION:2280 Hard Rd, Columbus, OH 43235, United States
ROOM: Trillium Meeting Room
DESCRIPTION:Talk, tempt and taste during this book discussion group that&#
 039;s all about food! To participate, prepare a recipe from one of the sel
 ected cookbooks and, if you&#039;re feeling friendly, bring in samples. We
 &#039;ll talk about what it&#039;s like to cook by the book!Selected title
 s (choose two):Today Loves Food: Recipes from America&#039;s Favorite Kitc
 hen by various authorsA Confident Cook: Recipes for Joyous, No-Pressure Fu
 n in the Kitchen by Tamron Hall and Lish SteilingAl Roker&#039;s Recipes t
 o Live By: Easy, Memory-Making Family Dishes for Every Occasion by Al Roke
 r 
URL:https://worthingtonlibraries.librarymarket.com/index.php/event/lets-di
 sh-cookbook-club-152993
END:VEVENT
END:VCALENDAR
