BEGIN:VCALENDAR
VERSION:2.0
PRODID:-//Library Market//iCal Export//EN
BEGIN:VEVENT
SUMMARY:Let&#039;s Dish: A Cookbook Club
UID:155131
DTSTAMP:20260424T162300Z
DTSTART:20260727T233000Z
DTEND:20260728T003000Z
LOCATION:2280 Hard Rd, Columbus, OH 43235, United States
ROOM: Trillium Meeting Room
DESCRIPTION:Talk, tempt and taste during this book discussion group that&#
 039;s all about food! To participate, prepare a recipe from one of the sel
 ected cookbooks and, if you&#039;re feeling friendly, bring in samples. We
 &#039;ll talk about what it&#039;s like to cook by the book!Selected title
  (choose two):Smørrebrød: Scandinavian Open Sandwiches by Brontë Aurell
 Stacked: The Art of the Perfect Sandwich by Owen HanIdiot Sandwich: 100+ R
 ecipes to Elevate Your Sandwich Game by Courtney McBroom
URL:https://worthingtonlibraries.librarymarket.com/index.php/event/lets-di
 sh-cookbook-club-155131
END:VEVENT
END:VCALENDAR
