BEGIN:VCALENDAR
VERSION:2.0
PRODID:-//Library Market//iCal Export//EN
BEGIN:VEVENT
SUMMARY:Let&#039;s Dish: A Cookbook Club
UID:155132
DTSTAMP:20260424T202200Z
DTSTART:20260831T233000Z
DTEND:20260901T003000Z
LOCATION:2280 Hard Rd, Columbus, OH 43235, United States
ROOM: Trillium Meeting Room
DESCRIPTION:Talk, tempt and taste during this book discussion group that&#
 039;s all about food! To participate, prepare a recipe from one of the sel
 ected cookbooks and, if you&#039;re feeling friendly, bring in samples. We
 &#039;ll talk about what it&#039;s like to cook by the book!Selected title
  (choose two):108 Asian Cookies: Not-Too-Sweet Treats from a Third-Culture
  Kitchen by Kat LieuSesame, Soy, Spice: 90 Asian-ish Vegan and Gluten-Free
  Recipes to Reconnect, Root, and Restore by Remy Morimoto ParkBad B*tch in
  the Kitch: Craveable Asian Recipes to Ditch the Takeout by Cassie Yeung
URL:https://worthingtonlibraries.librarymarket.com/index.php/event/lets-di
 sh-cookbook-club-155132
END:VEVENT
END:VCALENDAR
