BEGIN:VCALENDAR
VERSION:2.0
PRODID:-//Library Market//iCal Export//EN
BEGIN:VEVENT
SUMMARY:Literary Libations: A Book Discussion Group
UID:166078
DTSTAMP:20260424T162300Z
DTSTART:20260819T220000Z
DTEND:20260819T230000Z
LOCATION:The Pub Out Back, 679 High St C, Worthington, OH 43085, United St
 ates
ROOM: Literary Libations: A Book Discussion Group
DESCRIPTION:Whether you&#039;d prefer a martini with your memoir, a Riesli
 ng with your romance or a brew with your biography, join us for a &quot;sp
 irit&quot;ed discussion of some great books!Selected title: Abundance by E
 zra Klein and Derek Thompson
URL:https://worthingtonlibraries.librarymarket.com/index.php/event/literar
 y-libations-book-discussion-group-166078
END:VEVENT
END:VCALENDAR
