BEGIN:VCALENDAR
VERSION:2.0
PRODID:-//Library Market//iCal Export//EN
BEGIN:VEVENT
SUMMARY:Expanding Horizons: A Reading Challenge Book Club
UID:167059
DTSTAMP:20260424T204500Z
DTSTART:20260711T133000Z
DTEND:20260711T150000Z
LOCATION:1389 Worthington Centre Dr, Worthington, OH 43085, United States
ROOM: Learning Lab (Worthington Park Library)
DESCRIPTION:Want a book club with a little more freedom? Choose a book fro
 m among our suggested titles, or a similarly themed one of your own, and c
 ome ready to share your thoughts and get book recommendations.Theme: Alter
 nate historiesSuggested titles:The Age of Calamities by Senaa AhmadWhen W
 omen Were Dragons by Kelly BarnhillSargassa by Sophie BurnhamRing Shout b
 y P. Djélí ClarkThe Plot Against America by Philip Roth 
URL:https://worthingtonlibraries.librarymarket.com/index.php/event/expandi
 ng-horizons-167059
END:VEVENT
END:VCALENDAR
