BEGIN:VCALENDAR
VERSION:2.0
PRODID:-//Library Market//iCal Export//EN
BEGIN:VEVENT
SUMMARY:Expanding Horizons: A Reading Challenge Book Club
UID:167058
DTSTAMP:20260425T102500Z
DTSTART:20260606T133000Z
DTEND:20260606T150000Z
LOCATION:1389 Worthington Centre Dr, Worthington, OH 43085, United States
ROOM: Learning Lab (Worthington Park Library)
DESCRIPTION:Want a book club with a little more freedom? Choose a book fro
 m among our suggested titles, or a similarly themed one of your own, and c
 ome ready to share your thoughts and get book recommendations.Theme: Plays
 Suggested titles:A Raisin in the Sun by Lorraine HansberryDeath of a Sales
 man by Arthur MillerTwelve Angry Men by Reginald RoseA Midsummer Night’s
  Dream by William ShakespeareOedipus Trilogy by Sophocles (Bryan Doerries 
 translation)
URL:https://worthingtonlibraries.librarymarket.com/event/expanding-horizon
 s-167058
END:VEVENT
END:VCALENDAR
