BEGIN:VCALENDAR
VERSION:2.0
PRODID:-//Library Market//iCal Export//EN
BEGIN:VEVENT
SUMMARY:Expanding Horizons: A Reading Challenge Book Club
UID:167060
DTSTAMP:20260424T155600Z
DTSTART:20260801T133000Z
DTEND:20260801T150000Z
LOCATION:1389 Worthington Centre Dr, Worthington, OH 43085, United States
ROOM: Learning Lab (Worthington Park Library)
DESCRIPTION:Want a book club with a little more freedom? Choose a book fro
 m among our suggested titles, or a similarly themed one of your own, and c
 ome ready to share your thoughts and get book recommendations.Theme: Books
  inspired by gamesSuggested titles:Chain Gang All-Stars by Nana Kwame Adje
 i-BrenyahMs. Pennypickle&#039;s Puzzle Quest by Chris GrabensteinRabbits b
 y Terry MilesThe World of Pondside by Mary Helen StefaniakHide by Kiersten
  White
URL:https://worthingtonlibraries.librarymarket.com/event/expanding-horizon
 s-167060
END:VEVENT
END:VCALENDAR
